BEGIN:VCALENDAR
VERSION:2.0
PRODID:-//De Nachtzuster - ECPv6.15.18//NONSGML v1.0//EN
CALSCALE:GREGORIAN
METHOD:PUBLISH
X-WR-CALNAME:De Nachtzuster
X-ORIGINAL-URL:https://www.denachtzuster.nu
X-WR-CALDESC:Evenementen voor De Nachtzuster
REFRESH-INTERVAL;VALUE=DURATION:PT1H
X-Robots-Tag:noindex
X-PUBLISHED-TTL:PT1H
BEGIN:VTIMEZONE
TZID:UTC
BEGIN:STANDARD
TZOFFSETFROM:+0000
TZOFFSETTO:+0000
TZNAME:UTC
DTSTART:20240101T000000
END:STANDARD
END:VTIMEZONE
BEGIN:VEVENT
DTSTART;TZID=UTC:20250228T150000
DTEND;TZID=UTC:20250228T233000
DTSTAMP:20260422T080225
CREATED:20250113T155655Z
LAST-MODIFIED:20250206T154414Z
UID:13513-1740754800-1740785400@www.denachtzuster.nu
SUMMARY:de vakbroeders: wachtkamer
DESCRIPTION:wachtkamer\nVoormalig deelnemer aan het Vakbroeders traject & kunstcollectief SUBITE is terug als ervaren Vakbroeder en maakt nu samen met nieuwe jonge makers Jorden\, Mika & Willem de Wachtkamer klaar voor jouw bezoek. Laat je vol injecteren met vette kunst\, performances & muziek en ga volledig genezen weer de deur uit! Uw afspraak staat gepland. \nover de vakbroeders\n‘Merel en Johnny hebben ons geholpen met prioriteiten stellen en het begroten van projecten. Het event zou dead in the water zijn zonder hun. Hun hulp wordt zeer gewaardeerd. Ze zijn de perfecte mensen om plannen mee door te spitten\, door hun gevoel voor humor en een tikje absurdisme kom je altijd op iets gaafs uit.’ \nover de makers\n‘Wij hebben de kans gekregen om Willem\, Jorden en Mika onder ons te behoeden. Kom naar deze avond als je van internet cultuur\, gore en ironie houdt. Ze hebben een goed oog voor meta ironische kunst\, absurditeit en vieze ambiance. Deze avond hebben ze gevuld met rauwe elektronische muziek gemixt met droomachtige en experimentele sferen. Ook zijn ze niet bang om ze zichzelf open en bloot te stellen tijdens een show van lichamen\, bloed en naalden. Hou deze veelbelovende makers in de gaten want ze zitten op de nieuwe wave internet kunstenaars.’ \nhet medicijn\nBerend Vissers\n‘Berend (@B3r3ndbotj) is een Eindhovense kunstenaar die zich richt op airbrush-technieken. Tijdens BPM toont hij zijn werk en draait hij ’s avonds als DJ. Berend speelt een belangrijke rol in de invulling van het event.’ \nKalina\n‘Kalina (@r4tgirl_666) is een modeontwerpstudent die graag experimenteert met verschillende technieken. Tijdens BPM deelt ze haar visie en toont ze haar veelzijdigheid.’ \nMika\n‘Mika (@iselldemonblood)\, maakt mode die kunst en online cultuur met elkaar verbindt. Tijdens BPM presenteert hij textiele werken die verder gaan dan mode en nieuwe perspectieven bieden.’ \nSUBITE (Johnny & Merel)\n‘Subite (@subitesubite) is een kunstcollectief uit Tilburg dat evenementen organiseert om speelsheid bij mensen te stimuleren. Ze combineren kunst\, muziek en theater om een open en vrije sfeer te creëren.’ \nWillem\n‘Willem (@infamygggained) is een kunstenaar die werkt aan audiovisuele en textiele projecten. Hij combineert nieuwe technieken met oude hardware. Willem zorgt voor de technische organisatie van BPM en draagt bij aan de creatieve richting van het event.’ \n 
URL:https://www.denachtzuster.nu/evenement/de-vakbroeders-wachtkamer/
CATEGORIES:deejays,elektronisch,expositie,freakshow,operaties,performances,ziekenhuis
ATTACH;FMTTYPE=image/png:https://www.denachtzuster.nu/wp-content/uploads/2025/01/poster-roi-aangepast.png
END:VEVENT
END:VCALENDAR